BEGIN:VCALENDAR
VERSION:2.0
PRODID:-//pretix//pretix.eu//
BEGIN:VEVENT
UID:pretix-gruenejugendBV-migra-0@ticket.gruene-jugend.de
DTSTART;VALUE=DATE:20260604
DTEND;VALUE=DATE:20260608
DESCRIPTION:Tickets: https://ticket.gruene-jugend.de/migra/\nVeranstalter: 
 Grüne Jugend Bundesverband
DTSTAMP:20260421T084029Z
SUMMARY:Förderwochenende für migrantisierte Mitglieder
END:VEVENT
END:VCALENDAR
